BEGIN:VCALENDAR
VERSION:2.0
PRODID:-//Cool Kids Campaign - ECPv6.15.20//NONSGML v1.0//EN
CALSCALE:GREGORIAN
METHOD:PUBLISH
X-WR-CALNAME:Cool Kids Campaign
X-ORIGINAL-URL:https://coolkidscampaign.org
X-WR-CALDESC:Events for Cool Kids Campaign
REFRESH-INTERVAL;VALUE=DURATION:PT1H
X-Robots-Tag:noindex
X-PUBLISHED-TTL:PT1H
BEGIN:VTIMEZONE
TZID:America/New_York
BEGIN:DAYLIGHT
TZOFFSETFROM:-0500
TZOFFSETTO:-0400
TZNAME:EDT
DTSTART:20210314T070000
END:DAYLIGHT
BEGIN:STANDARD
TZOFFSETFROM:-0400
TZOFFSETTO:-0500
TZNAME:EST
DTSTART:20211107T060000
END:STANDARD
BEGIN:DAYLIGHT
TZOFFSETFROM:-0500
TZOFFSETTO:-0400
TZNAME:EDT
DTSTART:20220313T070000
END:DAYLIGHT
BEGIN:STANDARD
TZOFFSETFROM:-0400
TZOFFSETTO:-0500
TZNAME:EST
DTSTART:20221106T060000
END:STANDARD
BEGIN:DAYLIGHT
TZOFFSETFROM:-0500
TZOFFSETTO:-0400
TZNAME:EDT
DTSTART:20230312T070000
END:DAYLIGHT
BEGIN:STANDARD
TZOFFSETFROM:-0400
TZOFFSETTO:-0500
TZNAME:EST
DTSTART:20231105T060000
END:STANDARD
END:VTIMEZONE
BEGIN:VEVENT
DTSTART;TZID=America/New_York:20221030T130000
DTEND;TZID=America/New_York:20221030T160000
DTSTAMP:20260421T050309
CREATED:20220211T193449Z
LAST-MODIFIED:20221025T135029Z
UID:15390-1667134800-1667145600@coolkidscampaign.org
SUMMARY:Fall Festival
DESCRIPTION:Funnel Cakes\, Caramel Apples\, and Pumpkins…OH MY! Cool Kids Families join us a for a family day filled with games\, trunk or treat\, food and friends! We can’t wait to celebrate Fall with you! \nRSVP to Carrie@coolkidscampaign.org
URL:https://coolkidscampaign.org/event/fall-festival/
LOCATION:Carolina Custom\, 20310 Chartwell Center Dr\, Cornelius\, NC\, 28031\, United States
CATEGORIES:NC Programs
ATTACH;FMTTYPE=image/jpeg:https://coolkidscampaign.org/wp-content/uploads/2022/02/alison-and-axel-painting-pumpkins-scaled.jpg
END:VEVENT
BEGIN:VEVENT
DTSTART;TZID=America/New_York:20221030T150000
DTEND;TZID=America/New_York:20221030T161500
DTSTAMP:20260421T050309
CREATED:20220901T151137Z
LAST-MODIFIED:20220907T153712Z
UID:16316-1667142000-1667146500@coolkidscampaign.org
SUMMARY:Virtual Halloween Bingo
DESCRIPTION:Ready\, Set\, Ghoul! Cool Kids Campaign is partnering with our good friends of Respite Retreats to bring you a fang-tastic virtual Halloween bingo. We will have fa-boo-lous prizes for each game and for our costume contests! Come dressed ready for a spook-tacular time! \nSunday October 30th 3:00-4:15 \nRegister to play bingo here! \nYou will receive an email with instructions for accessing your bingo cards and Zoom link a few days before the event. Please be sure to check your email (and spam) to confirm receipt prior to the event.
URL:https://coolkidscampaign.org/event/halloween-bingo/
LOCATION:Virtual Event
CATEGORIES:MD Programs,NC Programs
ATTACH;FMTTYPE=image/jpeg:https://coolkidscampaign.org/wp-content/uploads/2022/09/halloween-bingo.jpg
ORGANIZER;CN="Cool Kids Campaign Maryland":MAILTO:alyssa@coolkidscampaign.org
END:VEVENT
END:VCALENDAR